BEGIN:VCALENDAR
VERSION:2.0
PRODID:-//IRCC - ECPv6.15.20//NONSGML v1.0//EN
CALSCALE:GREGORIAN
METHOD:PUBLISH
X-ORIGINAL-URL:https://irccflorida.org
X-WR-CALDESC:Events for IRCC
REFRESH-INTERVAL;VALUE=DURATION:PT1H
X-Robots-Tag:noindex
X-PUBLISHED-TTL:PT1H
BEGIN:VTIMEZONE
TZID:UTC
BEGIN:STANDARD
TZOFFSETFROM:+0000
TZOFFSETTO:+0000
TZNAME:UTC
DTSTART:20200101T000000
END:STANDARD
END:VTIMEZONE
BEGIN:VEVENT
DTSTART;TZID=UTC:20211028T190000
DTEND;TZID=UTC:20211028T220000
DTSTAMP:20260424T044241
CREATED:20211023T181141Z
LAST-MODIFIED:20211023T181141Z
UID:2755-1635447600-1635458400@irccflorida.org
SUMMARY:Monthly Networking Social
DESCRIPTION:We are so excited to host October’s Networking Social at The Small Wine Shop in support of small businesses that give back to the community. The owners Tim & Tracy are excited to introduce/ teach us about wine and helping us give back! \nOur charity of the month is Light One’s Path\, a local cause that was created out of our community’s loss\, but has become a beacon of light to help others. \nThis is also a great opportunity to connect with our members\, professionals\, business owners\, community partners\, and leaders while learning about our charity of the month.
URL:https://irccflorida.org/event/monthly-networking-social/
LOCATION:Small Wine Shop\, 410 North Andrews Avenue\, Fort Lauderdale\, FL\, 33301\, United States
ATTACH;FMTTYPE=image/png:https://irccflorida.org/wp-content/uploads/8B38BE9C-BF0C-4AC7-8B8A-94B42CBE173E.png
ORGANIZER;CN="Networking for Hindu Professionals":MAILTO:fkr108@att.net
END:VEVENT
END:VCALENDAR