BEGIN:VCALENDAR
VERSION:2.0
PRODID:-//IRCC - ECPv6.15.20//NONSGML v1.0//EN
CALSCALE:GREGORIAN
METHOD:PUBLISH
X-WR-CALNAME:IRCC
X-ORIGINAL-URL:https://irccflorida.org
X-WR-CALDESC:Events for IRCC
REFRESH-INTERVAL;VALUE=DURATION:PT1H
X-Robots-Tag:noindex
X-PUBLISHED-TTL:PT1H
BEGIN:VTIMEZONE
TZID:UTC
BEGIN:STANDARD
TZOFFSETFROM:+0000
TZOFFSETTO:+0000
TZNAME:UTC
DTSTART:20210101T000000
END:STANDARD
END:VTIMEZONE
BEGIN:VEVENT
DTSTART;TZID=UTC:20220424T120000
DTEND;TZID=UTC:20220424T133000
DTSTAMP:20260423T231625
CREATED:20220421T031835Z
LAST-MODIFIED:20220421T032056Z
UID:3207-1650801600-1650807000@irccflorida.org
SUMMARY:Get Glowing - a panel discussion with experts on skincare
DESCRIPTION:Get Glowing is a panel discussion with experts on skin care.\n\n\n\n\n\nMAIACA is proud to present the next event in its series of MaiacaTalks\, GET GLOWING\, a panel discussion with experts\, medical and cosmetic\, about skin care\, with a special emphasis on Indian skin. Dr. Devinder Singh is Chief and Program Director\, Division of Plastic Surgery\, University of Miami. Rekha Ramani is an aesthetician\, cosmetologist and business owner. Ami Desai is an influencer extrraordinaire with thousands of followers and a modern mom blogger focusing on beauty\, fashion and lifestyle.\nRegister to receive the Zoom link – https://www.eventbrite.com/e/get-glowing-tickets-311346504777 \n 
URL:https://irccflorida.org/event/get-glowing/
LOCATION:Online on Zoom
ATTACH;FMTTYPE=image/jpeg:https://irccflorida.org/wp-content/uploads/maiaca-get-glowing-apr2022.jpeg
END:VEVENT
END:VCALENDAR