BEGIN:VCALENDAR
VERSION:2.0
PRODID:-//IRCC - ECPv6.15.20//NONSGML v1.0//EN
CALSCALE:GREGORIAN
METHOD:PUBLISH
X-WR-CALNAME:IRCC
X-ORIGINAL-URL:https://irccflorida.org
X-WR-CALDESC:Events for IRCC
REFRESH-INTERVAL;VALUE=DURATION:PT1H
X-Robots-Tag:noindex
X-PUBLISHED-TTL:PT1H
BEGIN:VTIMEZONE
TZID:UTC
BEGIN:STANDARD
TZOFFSETFROM:+0000
TZOFFSETTO:+0000
TZNAME:UTC
DTSTART:20250101T000000
END:STANDARD
END:VTIMEZONE
BEGIN:VEVENT
DTSTART;TZID=UTC:20260125T110000
DTEND;TZID=UTC:20260125T160000
DTSTAMP:20260423T232420
CREATED:20211212T151502Z
LAST-MODIFIED:20260116T222306Z
UID:1279-1769338800-1769356800@irccflorida.org
SUMMARY:Anand Bazaar
DESCRIPTION:Anand Bazaar – Lohri/Republic Day/Kite Flying\nDate/Time: January 25\, 2026 from 11:00 am to 4:00 pm \nVenue: Corporate Shelter\, Miramar Regional Park\, 16801 Miramar Pkwy\, Miramar\, FL 33027. \nCelebrating the Indian Republic Day\, Lohri and the kite flying festival all together. This is a lovely picnic where members of the community set up food stalls. The audience can buy kites or bring their own kites and fly them all afternoon long against the blue South Florida sky. \nFree entry. Stalls for food and kites will be available. \nYouth club elections will also be held during this event.
URL:https://irccflorida.org/event/anand-bazaar/
LOCATION:Miramar Regional Park\, 16801 Miramar Pkwy\, Miramar\, 33027
ATTACH;FMTTYPE=image/jpeg:https://irccflorida.org/wp-content/uploads/Anand-Bazar-dummy-image.jpg
ORGANIZER;CN="IRCC":MAILTO:board@irccflorida.org
END:VEVENT
BEGIN:VEVENT
DTSTART;TZID=UTC:20260308T110000
DTEND;TZID=UTC:20260308T160000
DTSTAMP:20260423T232420
CREATED:20210710T185414Z
LAST-MODIFIED:20260222T200611Z
UID:1288-1772967600-1772985600@irccflorida.org
SUMMARY:Holi Celebration
DESCRIPTION:Holi Celebration\nDate/Time: March 8\, 2026 from 11 am to 4 pm \nVenue: Miramar Regional Park\, 16801 Miramar Pkwy\, Miramar\, FL 33027. \nThe Holi celebration is a picnic in a park where the entire community gets together to celebrate this grand festival of colors. Colors will be provided. A delicious Indian lunch is also served. \nEvent Fees :\nIIRCC Members: Adults $35; Kids (4-10): $20\nNon-members: Adults: $45; Kids (4-10): $25\nKids 3 and under are FREE. \nBUY TICKETS AT: https://irccflorida.org/pages/holiticket.php \nIRCC members save on tickets\, so do sign up to be a member for 2025 at https://irccflorida.org/pages/membership_signup.php.
URL:https://irccflorida.org/event/holi-celebration/
LOCATION:Miramar Regional Park\, 16801 Miramar Pkwy\, Miramar\, 33027
ATTACH;FMTTYPE=image/jpeg:https://irccflorida.org/wp-content/uploads/Holi-Picnic-Celebration.jpg
ORGANIZER;CN="IRCC":MAILTO:board@irccflorida.org
END:VEVENT
BEGIN:VEVENT
DTSTART;TZID=UTC:20261010T200000
DTEND;TZID=UTC:20261010T233000
DTSTAMP:20260423T232420
CREATED:20230830T022824Z
LAST-MODIFIED:20251109T212031Z
UID:4326-1791662400-1791675000@irccflorida.org
SUMMARY:Grand Navratri Celebration - Day One
DESCRIPTION:  \nGrand Navratri Celebration – Day One\nDate/Time: October 10\, 2026 \nVenue: Coral Springs High School\, 7201 W Sample Rd\, Coral Springs\, FL 33065. \nOne of the most popular events of the year\, the grand Navratri celebration involves 2 nights of dancing – garba\, dandia and more – celebrating the Festival of 9 nights dedicated to Goddess Durga. \nThis celebration involves 2 days of celebration – you can attend either one or both days.   In 2026\, the two dates for Navratri celebration are October 10\, 2026 and October 17\, 2026. \nIRCC members save on Navratri tickets\, so take advantage and become a member – just $75 for the immediate family residing at the same address. \nBecome a member at https://irccflorida.org/pages/membership_signup.php. \n 
URL:https://irccflorida.org/event/grand-navratri-celebration-day-one/
LOCATION:Coral Springs High School\, 7201 Sample Road\, Coral Springs\, FL\, 33065\, United States
ATTACH;FMTTYPE=image/jpeg:https://irccflorida.org/wp-content/uploads/Grand-Nav.jpg
ORGANIZER;CN="IRCC":MAILTO:board@irccflorida.org
END:VEVENT
BEGIN:VEVENT
DTSTART;TZID=UTC:20261017T200000
DTEND;TZID=UTC:20261017T233000
DTSTAMP:20260423T232420
CREATED:20210710T193528Z
LAST-MODIFIED:20251109T212121Z
UID:1301-1792267200-1792279800@irccflorida.org
SUMMARY:Grand Navratri Celebration - Day Two
DESCRIPTION:Grand Navratri Celebration – Day Two\nDate/Time: October 17\, 2026 \nVenue: Coral Springs High School\, 7201 W Sample Rd\, Coral Springs\, FL 33065. \nOne of the most popular events of the year\, the grand Navratri celebration involves 2 nights of dancing – garba\, dandia and more – celebrating the Festival of 9 nights dedicated to Goddess Durga. \nThis celebration involves 2 days of celebration – you can attend either one or both days.   In 2025\, the two dates for Navratri celebration are October 10\, 2026 and October 17\, 2026. \n IRCC members save on Navratri tickets\, so take advantage and become a member – just $50 for the immediate family residing at the same address. \nBecome a member at https://irccflorida.org/pages/membership_signup.php. \n\n\n 
URL:https://irccflorida.org/event/grand-navratri-celebration/
LOCATION:Coral Springs High School\, 7201 Sample Road\, Coral Springs\, FL\, 33065\, United States
ATTACH;FMTTYPE=image/jpeg:https://irccflorida.org/wp-content/uploads/Grand-Nav.jpg
ORGANIZER;CN="IRCC":MAILTO:board@irccflorida.org
END:VEVENT
BEGIN:VEVENT
DTSTART;TZID=UTC:20261121T120000
DTEND;TZID=UTC:20261121T220000
DTSTAMP:20260423T232420
CREATED:20210710T193930Z
LAST-MODIFIED:20260320T224125Z
UID:1305-1795262400-1795298400@irccflorida.org
SUMMARY:Diwali - Festival of Lights
DESCRIPTION:Diwali Grand Celebration – (Festival of Lights)\nDate/Time: November 21\, 2026 \nVenue: TBD \nThis is our flagship event held in celebration of the Indian Festival of Lights called Diwali. It is our organization’s mission to spread awareness about Indian culture in our diverse local community. We provide an opportunity to children and adults to showcase their talent and knowledge of Indian culture on the stage. Over 1000 children and adults perform on stage in various segments of the cultural program including high school and college level fusion and folk dance competitions. We always have several local dignitaries from nearby cities and counties joining us and experiencing the event\, often with their own families. Visitors get to enjoy cultural displays from all parts of India with music and dance performances in different categories such as Bhangra\, Raas/ Garba/ Folk and Bollywood/ Fusion. In the last five years\, this event has proved to be a major attraction in Broward County with over 60 vendor booths and thousands of attendees each year! \nIn addition to the extravagant cultural entertainment program and competitions\, numerous vendors display and sell food\, clothes\, jewelry and accessories\, and services. Food vendors offer a variety of Indian and non-Indian delicacies. \nEvent Fees: TBD. \nTo visit our Diwali Festival of Lights page\, click HERE. \n 
URL:https://irccflorida.org/event/diwali-celebration/
LOCATION:FL
ATTACH;FMTTYPE=image/jpeg:https://irccflorida.org/wp-content/uploads/Diwali.jpg
ORGANIZER;CN="IRCC":MAILTO:board@irccflorida.org
END:VEVENT
END:VCALENDAR