BEGIN:VCALENDAR
VERSION:2.0
PRODID:-//IRCC - ECPv6.15.20//NONSGML v1.0//EN
CALSCALE:GREGORIAN
METHOD:PUBLISH
X-WR-CALNAME:IRCC
X-ORIGINAL-URL:https://irccflorida.org
X-WR-CALDESC:Events for IRCC
REFRESH-INTERVAL;VALUE=DURATION:PT1H
X-Robots-Tag:noindex
X-PUBLISHED-TTL:PT1H
BEGIN:VTIMEZONE
TZID:UTC
BEGIN:STANDARD
TZOFFSETFROM:+0000
TZOFFSETTO:+0000
TZNAME:UTC
DTSTART:20210101T000000
END:STANDARD
END:VTIMEZONE
BEGIN:VTIMEZONE
TZID:America/New_York
BEGIN:DAYLIGHT
TZOFFSETFROM:-0500
TZOFFSETTO:-0400
TZNAME:EDT
DTSTART:20210314T070000
END:DAYLIGHT
BEGIN:STANDARD
TZOFFSETFROM:-0400
TZOFFSETTO:-0500
TZNAME:EST
DTSTART:20211107T060000
END:STANDARD
BEGIN:DAYLIGHT
TZOFFSETFROM:-0500
TZOFFSETTO:-0400
TZNAME:EDT
DTSTART:20220313T070000
END:DAYLIGHT
BEGIN:STANDARD
TZOFFSETFROM:-0400
TZOFFSETTO:-0500
TZNAME:EST
DTSTART:20221106T060000
END:STANDARD
BEGIN:DAYLIGHT
TZOFFSETFROM:-0500
TZOFFSETTO:-0400
TZNAME:EDT
DTSTART:20230312T070000
END:DAYLIGHT
BEGIN:STANDARD
TZOFFSETFROM:-0400
TZOFFSETTO:-0500
TZNAME:EST
DTSTART:20231105T060000
END:STANDARD
END:VTIMEZONE
BEGIN:VEVENT
DTSTART;TZID=UTC:20260308T110000
DTEND;TZID=UTC:20260308T160000
DTSTAMP:20260423T232507
CREATED:20210710T185414Z
LAST-MODIFIED:20260222T200611Z
UID:1288-1772967600-1772985600@irccflorida.org
SUMMARY:Holi Celebration
DESCRIPTION:Holi Celebration\nDate/Time: March 8\, 2026 from 11 am to 4 pm \nVenue: Miramar Regional Park\, 16801 Miramar Pkwy\, Miramar\, FL 33027. \nThe Holi celebration is a picnic in a park where the entire community gets together to celebrate this grand festival of colors. Colors will be provided. A delicious Indian lunch is also served. \nEvent Fees :\nIIRCC Members: Adults $35; Kids (4-10): $20\nNon-members: Adults: $45; Kids (4-10): $25\nKids 3 and under are FREE. \nBUY TICKETS AT: https://irccflorida.org/pages/holiticket.php \nIRCC members save on tickets\, so do sign up to be a member for 2025 at https://irccflorida.org/pages/membership_signup.php.
URL:https://irccflorida.org/event/holi-celebration/
LOCATION:Miramar Regional Park\, 16801 Miramar Pkwy\, Miramar\, 33027
ATTACH;FMTTYPE=image/jpeg:https://irccflorida.org/wp-content/uploads/Holi-Picnic-Celebration.jpg
ORGANIZER;CN="IRCC":MAILTO:board@irccflorida.org
END:VEVENT
BEGIN:VEVENT
DTSTART;TZID=UTC:20260125T110000
DTEND;TZID=UTC:20260125T160000
DTSTAMP:20260423T232507
CREATED:20211212T151502Z
LAST-MODIFIED:20260116T222306Z
UID:1279-1769338800-1769356800@irccflorida.org
SUMMARY:Anand Bazaar
DESCRIPTION:Anand Bazaar – Lohri/Republic Day/Kite Flying\nDate/Time: January 25\, 2026 from 11:00 am to 4:00 pm \nVenue: Corporate Shelter\, Miramar Regional Park\, 16801 Miramar Pkwy\, Miramar\, FL 33027. \nCelebrating the Indian Republic Day\, Lohri and the kite flying festival all together. This is a lovely picnic where members of the community set up food stalls. The audience can buy kites or bring their own kites and fly them all afternoon long against the blue South Florida sky. \nFree entry. Stalls for food and kites will be available. \nYouth club elections will also be held during this event.
URL:https://irccflorida.org/event/anand-bazaar/
LOCATION:Miramar Regional Park\, 16801 Miramar Pkwy\, Miramar\, 33027
ATTACH;FMTTYPE=image/jpeg:https://irccflorida.org/wp-content/uploads/Anand-Bazar-dummy-image.jpg
ORGANIZER;CN="IRCC":MAILTO:board@irccflorida.org
END:VEVENT
BEGIN:VEVENT
DTSTART;TZID=UTC:20250823T173000
DTEND;TZID=UTC:20250823T213000
DTSTAMP:20260423T232507
CREATED:20250809T135136Z
LAST-MODIFIED:20250809T135136Z
UID:5194-1755970200-1755984600@irccflorida.org
SUMMARY:SFHT Navjeevan - Mirabai Bhakti Sangeet
DESCRIPTION:
URL:https://irccflorida.org/event/sfht-navjeevan-mirabai-bhakti-sangeet/
LOCATION:South Florida Hindu Temple\, 13010 West Griffin Road\, Southwest Ranches\, FL\, 33330
END:VEVENT
BEGIN:VEVENT
DTSTART;TZID=UTC:20250531T160000
DTEND;TZID=UTC:20250531T180000
DTSTAMP:20260423T232507
CREATED:20250515T183603Z
LAST-MODIFIED:20250515T183712Z
UID:5160-1748707200-1748714400@irccflorida.org
SUMMARY:IRCC Youth Club Food Drive
DESCRIPTION:Join us for the IRCC Youth Club Food Drive\, a one-time community service event to support local families in need and earn up to 4 hours of service on Saturday\, May 31\, 2025\, from 4:00 PM to 6:00 PM at 20200 Saddle Club Rd\, Weston\, FL. We invite IRCC youth members (Please ensure that your membership is up-to-date) or any new member who would like to join the IRCC Youth Club (become a member here) to come together and contribute non-perishable food items. This food drive is for Feeding South Florida. Your coming together for this noble cause fosters a spirit of compassion and teamwork among the IRCC youth club members. Please choose at least FOUR non-perishable food items from the list below (you can bring more)\, and bring them to the event. \n\nCanned soups/stews\nNut butters\nBags or cans of dried beans and peas\nWhole grain cereals\nBags of plain rice and pasta\nBarley and quinoa\nCanned fruits\nCanned vegetables\nFruit jams\n\nParticipants can expect an engaging atmosphere filled with community spirit and opportunities to make a meaningful impact. Your generosity can help us make a significant difference in the lives of our neighbors. \nPlease bring your favorite snacks to share with participants. We expect 30-40 people to join the event. You will earn three hours of Community Service for your participation. Additionally\, if you speak for two minutes to share your ideas on how to make the IRCC Youth Club more engaging to help our local community and what role you can take\, you will earn a total of 4 hours for attending the event. Please bring your service hour forms to get the IRCC signatures. \nPlease sign up by visiting https://primeeventz.com/event-detail/MjQ1/ircc-youth-club-food-drive/20200-saddle-club-rd-weston-fl-33327-usa
URL:https://irccflorida.org/event/ircc-youth-club-food-drive/
LOCATION:Weston Community Center at Regional Park\, 20200 Saddle Club Rd\, Weston\, FL\, 33327\, United States
ORGANIZER;CN="IRCC":MAILTO:board@irccflorida.org
END:VEVENT
BEGIN:VEVENT
DTSTART;TZID=UTC:20250405T180000
DTEND;TZID=UTC:20250405T210000
DTSTAMP:20260423T232507
CREATED:20250404T212141Z
LAST-MODIFIED:20250404T212141Z
UID:5097-1743876000-1743886800@irccflorida.org
SUMMARY:Celestial Dance of India
DESCRIPTION:
URL:https://irccflorida.org/event/celestial-dance-of-india/
LOCATION:Little Haiti Cultural Center\, 212 NE 59th Terrace\, Miami\, FL\, 33137
END:VEVENT
BEGIN:VEVENT
DTSTART;TZID=UTC:20250316T173000
DTEND;TZID=UTC:20250316T173000
DTSTAMP:20260423T232507
CREATED:20250212T225403Z
LAST-MODIFIED:20250212T225436Z
UID:5073-1742146200-1742146200@irccflorida.org
SUMMARY:APAI presents Celestial Dance Program
DESCRIPTION:
URL:https://irccflorida.org/event/apai-presents-celestial-dance-program/
LOCATION:South Florida Hindu Temple\, 13010 West Griffin Road\, Southwest Ranches\, FL\, 33330
END:VEVENT
BEGIN:VEVENT
DTSTART;TZID=UTC:20250306T193000
DTEND;TZID=UTC:20250306T193000
DTSTAMP:20260423T232507
CREATED:20250112T145938Z
LAST-MODIFIED:20250112T145938Z
UID:5048-1741289400-1741289400@irccflorida.org
SUMMARY:Haymakers for Hope Knocks Out Cancer
DESCRIPTION:Haymakers For Hope\, is inviting South Florida to watch as they “knock out” cancer with their first South Beach charitable boxing event on March 6 at the Fillmore Miami Beach at the Jackie Gleason Theater\, 1700 Washington Avenue. \nTaking place at 7:30 p.m.\, tickets for the event went on sale January 12th at $85 per person.\n“We are so excited to introduce our charity boxing event to the Miami community\,” states Andrew Myerson\, co-founder of Haymakers for Hope. \nThe organization has already raised more than $100\,000. All donations from the event will benefit the University of Miami’s Sylvester Comprehensive Cancer Center\, state-of-the-art treatment and follow-up care\, and various other charities handpicked by the participating boxers. \n“Training for a boxing match is no joke; it takes so much commitment and truly tests each individual\,” said Jordan McMillan\, the marketing manager for Haymakers for Hope.
URL:https://irccflorida.org/event/haymakers-for-hope-knocks-out-cancer/
LOCATION:Filmore at Jackie Gleason Theater\, 1700 Washington Ave\, Miami Beach\, FL\, 33139
ORGANIZER;CN="Haymakers Miami":MAILTO:info@haymakersforhope.org
END:VEVENT
BEGIN:VEVENT
DTSTART;TZID=UTC:20250302T110000
DTEND;TZID=UTC:20250302T170000
DTSTAMP:20260423T232507
CREATED:20250212T225917Z
LAST-MODIFIED:20250212T225917Z
UID:5079-1740913200-1740934800@irccflorida.org
SUMMARY:Annual Asian Culture Festival
DESCRIPTION:March 1 and 2\, 2025 from 11 am to 5 pm on both days
URL:https://irccflorida.org/event/annual-asian-culture-festival/2025-03-02/
LOCATION:Tropical Park\, 7900 SW 40th St\, Miami\, FL
END:VEVENT
BEGIN:VEVENT
DTSTART;TZID=UTC:20250301T110000
DTEND;TZID=UTC:20250301T170000
DTSTAMP:20260423T232507
CREATED:20250212T225917Z
LAST-MODIFIED:20250212T225917Z
UID:5076-1740826800-1740848400@irccflorida.org
SUMMARY:Annual Asian Culture Festival
DESCRIPTION:March 1 and 2\, 2025 from 11 am to 5 pm on both days
URL:https://irccflorida.org/event/annual-asian-culture-festival/2025-03-01/
LOCATION:Tropical Park\, 7900 SW 40th St\, Miami\, FL
END:VEVENT
BEGIN:VEVENT
DTSTART;TZID=UTC:20250222T170000
DTEND;TZID=UTC:20250222T170000
DTSTAMP:20260423T232507
CREATED:20250212T230246Z
LAST-MODIFIED:20250212T230246Z
UID:5081-1740243600-1740243600@irccflorida.org
SUMMARY:Valentine's Day Charity Gala
DESCRIPTION:
URL:https://irccflorida.org/event/valentines-day-charity-gala/
LOCATION:Bonaventure Town Center Club\, 16690 Saddle Club Road\, Weston\, FL\, 33326
END:VEVENT
BEGIN:VEVENT
DTSTART;TZID=UTC:20250212T180000
DTEND;TZID=UTC:20250212T180000
DTSTAMP:20260423T232507
CREATED:20250123T021113Z
LAST-MODIFIED:20250123T021113Z
UID:5061-1739383200-1739383200@irccflorida.org
SUMMARY:SFHT NavJeevan Valentine's Day Celebration
DESCRIPTION:South Florida Senior Group – Fun Filled event with full buffet dinner and live music. Limited space – RSVP by February 10\, 2025.
URL:https://irccflorida.org/event/sfht-navjeevan-valentines-day-celebration/
LOCATION:Tandoor Restaurant\, 8440 W Oakland Park Blvd\, Sunrise\, FL\, 33351\, United States
END:VEVENT
BEGIN:VEVENT
DTSTART;TZID=UTC:20250125T170000
DTEND;TZID=UTC:20250125T220000
DTSTAMP:20260423T232507
CREATED:20250108T035049Z
LAST-MODIFIED:20250108T035049Z
UID:5041-1737824400-1737842400@irccflorida.org
SUMMARY:PASF Lohri Mela
DESCRIPTION:
URL:https://irccflorida.org/event/pasf-lohri-mela/
LOCATION:Sample-MacDouglad House\, 450 NE 10th St\, Pompano Beach\, FL\, 33060\, United States
ORGANIZER;CN="PASF":MAILTO:pasfsouthflorida@gmail.com
END:VEVENT
BEGIN:VEVENT
DTSTART;TZID=UTC:20240921T173000
DTEND;TZID=UTC:20240921T173000
DTSTAMP:20260423T232507
CREATED:20240805T063815Z
LAST-MODIFIED:20240805T063815Z
UID:4797-1726939800-1726939800@irccflorida.org
SUMMARY:Healing the Heart... Releasing the Hurt...with Sister Shivani
DESCRIPTION:
URL:https://irccflorida.org/event/healing-the-heart-releasing-the-hurt-with-sister-shivani/
LOCATION:Nova Southeastern University Rick Case Arena\, Southwest 75th Avenue\, Davie\, FL
END:VEVENT
BEGIN:VEVENT
DTSTART;TZID=UTC:20240906T193000
DTEND;TZID=UTC:20240906T193000
DTSTAMP:20260423T232507
CREATED:20240805T063354Z
LAST-MODIFIED:20240805T063449Z
UID:4792-1725651000-1725651000@irccflorida.org
SUMMARY:Pink Glam Garba - for Breast Cancer Awareness
DESCRIPTION:
URL:https://irccflorida.org/event/pink-glam-garba-for-breast-cancer-awareness/
LOCATION:Royal Palm Beach Cultural Center\, 151 Civic Center Way\, Royal Palm Beach\, FL
END:VEVENT
BEGIN:VEVENT
DTSTART;TZID=UTC:20240804T235600
DTEND;TZID=UTC:20240804T235600
DTSTAMP:20260423T232507
CREATED:20210710T193114Z
LAST-MODIFIED:20240805T043654Z
UID:1299-1722815760-1722815760@irccflorida.org
SUMMARY:Bowling/Rakshabandhan
DESCRIPTION:Bowling and Member Appreciation event – Rakshabandhan\nDate/Time: TBD \nVenue: TBD \nThis is our membership appreciation event.  Membership is valid from January through December of a calendar year\, so sign up and become members early! Unlimited bowling and snacks are provided for the duration of the event. This is a fun event for the whole family! \nIRCC members save on tickets to multiple events\, so take advantage and become a member – just $50 for the immediate family residing at the same address. Become a member at https://irccflorida.org/pages/membership_signup.php. \n 
URL:https://irccflorida.org/event/raksha-bandhan-celebration/
LOCATION:Sparez Bowling Arena\, 5325 S. University Drive\, Davie\, FL\, 33328\, United States
ATTACH;FMTTYPE=image/jpeg:https://irccflorida.org/wp-content/uploads/Rakshabandhan.jpg
ORGANIZER;CN="IRCC":MAILTO:board@irccflorida.org
END:VEVENT
BEGIN:VEVENT
DTSTART;TZID=UTC:20240309T200000
DTEND;TZID=UTC:20240309T213000
DTSTAMP:20260423T232507
CREATED:20240109T015936Z
LAST-MODIFIED:20240109T015936Z
UID:4636-1710014400-1710019800@irccflorida.org
SUMMARY:Bijaini Satpathy in Abhipssa
DESCRIPTION:Considered one of the foremost masters of Odissi in the world\, Bijayini Satpathy is renowned the world over for her grace and she embodies the spirit and profound storytelling of classical Indian dance in a way few others have achieved. Now\, in the prime of her artistic life\, Satpathy embarks on a journey to expand the tradition through her own choreographic work. \nAfter 25 years as Principal Dancer with India’s famed Nrityagram Dance Ensemble\, Satpathy strikes out on her own to create this singular solo work that radically integrates Odissi’s past and proposes its possible futures. In this evening – length choreographic debut\, Satpathy reimagines classical Odissi forms through a personalized interpretation that charts a journey of discovery in physical\, emotional\, and spiritual realms. This critical success\, a dramatic exploration and reshaping of an ancient tradition\, has catapulted Satpathy to the forefront of the field. Satpathy has been hailed by New Yorker Magazine for her “exquisite grace and technique” and by international press around the world for her unparalleled artistic expression.
URL:https://irccflorida.org/event/bijaini-satpathy-in-abhipssa/
LOCATION:MDC’s Lehman Theater\, 11380 NW 27th Ave Room 1315\, Miami\, FL\, 33167\, United States
ATTACH;FMTTYPE=image/jpeg:https://irccflorida.org/wp-content/uploads/Bijayini-Satpathy-home.jpg
END:VEVENT
BEGIN:VEVENT
DTSTART;TZID=UTC:20231105T180000
DTEND;TZID=UTC:20231105T210000
DTSTAMP:20260423T232507
CREATED:20231028T145948Z
LAST-MODIFIED:20231028T145948Z
UID:4550-1699207200-1699218000@irccflorida.org
SUMMARY:SFHT NavJeevan Holiday Bash - Nov 5\, 2023
DESCRIPTION:Senior holiday bash at the temple – Register by November 3. All details provided on flyer.
URL:https://irccflorida.org/event/sfht-navjeevan-holiday-bash-nov-5-2023/
LOCATION:South Florida Hindu Temple\, 13010 West Griffin Road\, Southwest Ranches\, FL\, 33330
ATTACH;FMTTYPE=image/png:https://irccflorida.org/wp-content/uploads/Screenshot-2023-10-28-at-10.55.22-AM.png
END:VEVENT
BEGIN:VEVENT
DTSTART;TZID=UTC:20230923T183000
DTEND;TZID=UTC:20230923T220000
DTSTAMP:20260423T232507
CREATED:20230911T201837Z
LAST-MODIFIED:20230911T202155Z
UID:4357-1695493800-1695506400@irccflorida.org
SUMMARY:Celestial Dance of India - presented by Sacred Vedic Arts
DESCRIPTION:
URL:https://irccflorida.org/event/celestial-dance-of-india-presented-by-sacred-vedic-arts/
LOCATION:South Florida Hindu Temple\, 13010 West Griffin Road\, Southwest Ranches\, FL\, 33330
ATTACH;FMTTYPE=image/jpeg:https://irccflorida.org/wp-content/uploads/Flyer-Sacred-Vedic-Arts.jpg
END:VEVENT
BEGIN:VEVENT
DTSTART;TZID=UTC:20230915T183000
DTEND;TZID=UTC:20230915T213000
DTSTAMP:20260423T232507
CREATED:20230906T015445Z
LAST-MODIFIED:20230906T015445Z
UID:4349-1694802600-1694813400@irccflorida.org
SUMMARY:Satsang & Pravachan by Didi Maa Sadhvi Ritambharaji
DESCRIPTION:
URL:https://irccflorida.org/event/satsang-pravachan-by-didi-maa-sadhvi-ritambharaji/
LOCATION:South Florida Hindu Temple\, 13010 West Griffin Road\, Southwest Ranches\, FL\, 33330
ATTACH;FMTTYPE=image/jpeg:https://irccflorida.org/wp-content/uploads/Flyer-sep15-event.jpeg
ORGANIZER;CN="Param Shakti Peeth of America Foundation":MAILTO:info@pspausa.org
END:VEVENT
BEGIN:VEVENT
DTSTART;TZID=UTC:20230616T183000
DTEND;TZID=UTC:20230616T223000
DTSTAMP:20260423T232507
CREATED:20230524T200751Z
LAST-MODIFIED:20230524T200751Z
UID:4075-1686940200-1686954600@irccflorida.org
SUMMARY:Navjeevan (senior 55+) group - Celebrating Father's Day
DESCRIPTION:Navjeevan (senior 55+) group – Celebrating Father’s Day
URL:https://irccflorida.org/event/navjeevan-senior-55-group-celebrating-fathers-day/
LOCATION:South Florida Hindu Temple\, 13010 West Griffin Road\, Southwest Ranches\, FL\, 33330
ATTACH;FMTTYPE=image/jpeg:https://irccflorida.org/wp-content/uploads/Navjeevan-16-june-2023.jpg
END:VEVENT
BEGIN:VEVENT
DTSTART;TZID=UTC:20230527T120000
DTEND;TZID=UTC:20230527T120000
DTSTAMP:20260423T232507
CREATED:20230524T200343Z
LAST-MODIFIED:20230524T200556Z
UID:4070-1685188800-1685188800@irccflorida.org
SUMMARY:COHNA Meet & Greet
DESCRIPTION:
URL:https://irccflorida.org/event/4070/
LOCATION:Palace Indian Restaurant\, 11422 W State Rd 84\, Davie\, FL\, 33325\, United States
ATTACH;FMTTYPE=image/jpeg:https://irccflorida.org/wp-content/uploads/COHNA-meet-and-greet.jpeg
END:VEVENT
BEGIN:VEVENT
DTSTART;TZID=UTC:20230513T180000
DTEND;TZID=UTC:20230513T213000
DTSTAMP:20260423T232507
CREATED:20230505T002425Z
LAST-MODIFIED:20230505T002425Z
UID:4046-1684000800-1684013400@irccflorida.org
SUMMARY:Vaisakhi 2023
DESCRIPTION:Greater Punjab Cultural Society of S Florida is hosting Vaisakhi 2023 at JP Taravella High School on May 13.
URL:https://irccflorida.org/event/vaisakhi-2023/
LOCATION:Jp Taravella High School\, 10600 Riverside Drive\, Coral Springs\, FL\, 33071
ATTACH;FMTTYPE=image/jpeg:https://irccflorida.org/wp-content/uploads/Vaisakhi-2023-flyer.jpeg
ORGANIZER;CN="Greater Punjab Cultural Society of S Florida":MAILTO:Satrang00@yahoo.com
END:VEVENT
BEGIN:VEVENT
DTSTART;TZID=UTC:20230513T150000
DTEND;TZID=UTC:20230513T203000
DTSTAMP:20260423T232507
CREATED:20230420T185432Z
LAST-MODIFIED:20230420T185432Z
UID:3975-1683990000-1684009800@irccflorida.org
SUMMARY:Musical Night by Singer Mano
DESCRIPTION:Then Poovaga Tamil Sangam brings to you a musical feast by Kalaimamani Dr. Mano and team\, featuring Tamil and Telegu songs. \nVisit https://sfts.org/index.php/tamil-new-year to buy tickets\, or scan the QR code on the flyer.
URL:https://irccflorida.org/event/musical-night-by-singer-mano/
LOCATION:Lauderhill Performance Arts Center\, 3800 NW 11th Pl\, Lauderhill\, FL\, 33311\, United States
ATTACH;FMTTYPE=image/jpeg:https://irccflorida.org/wp-content/uploads/Telugu-and-Tamil-Flyer-New.jpg
ORGANIZER;CN="Then Poovaga Tamil Sangam":MAILTO:rajnvr@gmail.com
END:VEVENT
BEGIN:VEVENT
DTSTART;TZID=UTC:20230513T103000
DTEND;TZID=UTC:20230513T103000
DTSTAMP:20260423T232507
CREATED:20230502T142630Z
LAST-MODIFIED:20230502T142630Z
UID:3997-1683973800-1683973800@irccflorida.org
SUMMARY:Navjeevan group for seniors 55+
DESCRIPTION:Mother’s Day celebration hosted at the South Florida Hindu Temple on May 13\, 2023 for a nominal fee of $7 per person.
URL:https://irccflorida.org/event/navjeevan-group-for-seniors-55/
LOCATION:South Florida Hindu Temple\, 13010 West Griffin Road\, Southwest Ranches\, FL\, 33330
ATTACH;FMTTYPE=image/jpeg:https://irccflorida.org/wp-content/uploads/Navjeevan-May-2023.jpeg
END:VEVENT
BEGIN:VEVENT
DTSTART;TZID=UTC:20230319T110000
DTEND;TZID=UTC:20230319T150000
DTSTAMP:20260423T232507
CREATED:20230207T093236Z
LAST-MODIFIED:20230207T093236Z
UID:3949-1679223600-1679238000@irccflorida.org
SUMMARY:Holi Festival organized by SABA FL
DESCRIPTION:Visit sabaflorida.org to get more information or see attached flyer.
URL:https://irccflorida.org/event/holi-festival-organized-by-saba-fl/
LOCATION:Tradewinds Park and Stables\, 3600 W Sample Road\, Coconut Creek\, FL\, 33066\, United States
ATTACH;FMTTYPE=image/jpeg:https://irccflorida.org/wp-content/uploads/SABA-Holi-Festival.3.19.23.jpg
ORGANIZER;CN="South Asian Bar Association of Florida%2C Inc.":MAILTO:kboza@oza-in-law.com
END:VEVENT
BEGIN:VEVENT
DTSTART;TZID=UTC:20230225T180000
DTEND;TZID=UTC:20230225T210000
DTSTAMP:20260423T232507
CREATED:20230130T051909Z
LAST-MODIFIED:20230130T052330Z
UID:3939-1677348000-1677358800@irccflorida.org
SUMMARY:APAI Dance Program - Incarnations of Lord Vishnu
DESCRIPTION:A dance program presented by renowned South Florida dancers and their senior students\, to celebrate APAI’s 25th anniversary. \nDate: Saturday\, February 25\, 2023 \nTime: 6:00 pm to 9:00 pm \nVenue: Hollywood Central Performing Arts Center\, 1770 Monroe Street\, Hollywood FL 33020 \nTickets: \nOnline: VIP first four rows: $50\, General Seating $40 \nAt the door: VIP $55\, General $45 \nPurchase tickets at https://www.eventbrite.com/e/incarnations-of-lord-vishnu-tickets-497960472177
URL:https://irccflorida.org/event/apai-dance-program-incarnations-of-lord-vishnu/
LOCATION:Hollywood Central Performing Arts Center\, 1770 Monroe Street\, Hollywood\, FL\, 33020\, United States
ATTACH;FMTTYPE=image/png:https://irccflorida.org/wp-content/uploads/flyer-incarnations-of-vishnu.png
END:VEVENT
BEGIN:VEVENT
DTSTART;TZID=UTC:20221218T180000
DTEND;TZID=UTC:20221218T180000
DTSTAMP:20260423T232507
CREATED:20221202T223039Z
LAST-MODIFIED:20221202T223039Z
UID:3871-1671386400-1671386400@irccflorida.org
SUMMARY:Abhay Sopori USA Tour
DESCRIPTION:KoshurRAAG presents Santoor Maestro Abhay Sopori \nLive Concert in South Florida on Sunday\, December 18\, 2022 \nat Palace Indian Restaurant – 6:00 pm.
URL:https://irccflorida.org/event/abhay-sopori-usa-tour/
LOCATION:Palace Indian Restaurant\, 11422 W State Rd 84\, Davie\, FL\, 33325\, United States
ATTACH;FMTTYPE=image/jpeg:https://irccflorida.org/wp-content/uploads/Abhay_Sopori_Concert.jpeg
ORGANIZER;CN="KOSHURRAAG%2C INC.":MAILTO:admin@koshurraag.com
END:VEVENT
BEGIN:VEVENT
DTSTART;TZID=UTC:20221126T100000
DTEND;TZID=UTC:20221126T143000
DTSTAMP:20260423T232507
CREATED:20221117T192000Z
LAST-MODIFIED:20221120T220931Z
UID:3861-1669456800-1669473000@irccflorida.org
SUMMARY:Consular Services Camp
DESCRIPTION:Consulate General of India\, Atlanta\, USA\, in association with Indian Community Organizations of South Florida\, is pleased to organize a Consular Services Camp in Fort Lauderdale on November 26\, 2022 from 10:00 am to 2:30 pm\, at Cooper City City Hall. Please see flyer for a list of services that will be provided.
URL:https://irccflorida.org/event/consular-services-camp/
LOCATION:Cooper City City Hall\, 9090 SW 50th Pl\, Cooper City\, FL\, 33328\, United States
ATTACH;FMTTYPE=image/png:https://irccflorida.org/wp-content/uploads/Untitled-design.png
END:VEVENT
BEGIN:VEVENT
DTSTART;TZID=America/New_York:20221015T070000
DTEND;TZID=America/New_York:20221015T110000
DTSTAMP:20260423T232507
CREATED:20220926T155733Z
LAST-MODIFIED:20220926T155733Z
UID:3638-1665817200-1665831600@irccflorida.org
SUMMARY:5K Run / Walk - Light One's Path
DESCRIPTION:The 7th Annual 5k Run/Walk is sponsored by Light Ones Path Foundation and is based on the life of Rahul Maheshwari. \nLight Ones Path Foundation Inc. was founded by Priti and Narendra Maheshwari in honor of their son\, Rahul Maheshwari\, who embodied the spirit of community service. Rahul was a very pleasant\, hardworking student and was very social in the community. Rahul was a medical student at AUA in Antigua when he had an automobile accident and\, today\, he is with us in our memories. \nRegister online at www.lightonespath.org.  All proceeds will go towards the Light One’s Path Foundation free health clinic and COVID relief funds.
URL:https://irccflorida.org/event/5k-run-walk-light-ones-path-2/
LOCATION:Vista View Park\, 4001 S.W. 142nd Ave.\, Davie\, FL\, 33300\, United States
ATTACH;FMTTYPE=image/jpeg:https://irccflorida.org/wp-content/uploads/3B0641C4-350B-49B1-813E-F393808744CD-scaled.jpeg
END:VEVENT
BEGIN:VEVENT
DTSTART;TZID=UTC:20220514T170000
DTEND;TZID=UTC:20220514T170000
DTSTAMP:20260423T232507
CREATED:20220421T033642Z
LAST-MODIFIED:20220421T033737Z
UID:3217-1652547600-1652547600@irccflorida.org
SUMMARY:Annual Fundraiser and Movie Night - Rotary Club Miami Airport
DESCRIPTION:See flyer for details.
URL:https://irccflorida.org/event/annual-fundraiser-and-movie-night-rotary-club-miami-airport/
LOCATION:Bill Cosford Cinema\, University of Miami\, 5030 Brunson Dr\, Coral Gables\, FL\, 33146\, United States
ATTACH;FMTTYPE=image/jpeg:https://irccflorida.org/wp-content/uploads/Rotary-club-miami-airport-annual-fundraiser-2022.jpg
END:VEVENT
END:VCALENDAR